Package: DirichletMultinomial Version: 1.51.0 Command: /home/biocbuild/bbs-3.22-bioc/R/bin/R CMD INSTALL DirichletMultinomial StartedAt: 2025-10-01 15:16:43 -0400 (Wed, 01 Oct 2025) EndedAt: 2025-10-01 15:16:54 -0400 (Wed, 01 Oct 2025) EllapsedTime: 10.9 seconds RetCode: 0 Status: OK