Package: DirichletMultinomial Version: 1.51.0 Command: /home/biocbuild/bbs-3.22-bioc/R/bin/R CMD build --keep-empty-dirs --no-resave-data --md5 DirichletMultinomial StartedAt: 2025-10-01 17:41:18 -0400 (Wed, 01 Oct 2025) EndedAt: 2025-10-01 17:41:34 -0400 (Wed, 01 Oct 2025) EllapsedTime: 16.0 seconds RetCode: 0 Status: OK PackageFile: DirichletMultinomial_1.51.0.tar.gz PackageFileSize: 1.061 MiB