Package: DifferentialRegulation Version: 2.7.0 Command: /home/biocbuild/bbs-3.22-bioc/R/bin/R CMD INSTALL DifferentialRegulation StartedAt: 2025-10-08 15:46:47 -0400 (Wed, 08 Oct 2025) EndedAt: 2025-10-08 15:47:47 -0400 (Wed, 08 Oct 2025) EllapsedTime: 59.9 seconds RetCode: 0 Status: OK