Package: DifferentialRegulation Version: 2.7.0 Command: /home/biocbuild/bbs-3.22-bioc/R/bin/R CMD build --keep-empty-dirs --no-resave-data --md5 DifferentialRegulation StartedAt: 2025-10-08 17:42:55 -0400 (Wed, 08 Oct 2025) EndedAt: 2025-10-08 17:46:01 -0400 (Wed, 08 Oct 2025) EllapsedTime: 186.1 seconds RetCode: 0 Status: OK PackageFile: DifferentialRegulation_2.7.0.tar.gz PackageFileSize: 3.124 MiB