Package: DiffBind Version: 3.21.0 Command: /Library/Frameworks/R.framework/Resources/bin/R CMD build --keep-empty-dirs --no-resave-data DiffBind StartedAt: 2025-11-21 16:09:19 -0500 (Fri, 21 Nov 2025) EndedAt: 2025-11-21 16:10:42 -0500 (Fri, 21 Nov 2025) EllapsedTime: 82.9 seconds RetCode: 0 Status: OK PackageFile: DiffBind_3.21.0.tar.gz PackageFileSize: 6.485 MiB