Package: DelayedTensor Version: 1.17.0 Command: /home/biocbuild/bbs-3.23-bioc/R/bin/R CMD INSTALL DelayedTensor StartedAt: 2025-11-09 15:55:09 -0500 (Sun, 09 Nov 2025) EndedAt: 2025-11-09 15:55:38 -0500 (Sun, 09 Nov 2025) EllapsedTime: 28.9 seconds RetCode: 0 Status: OK