Package: DelayedRandomArray Version: 1.19.0 Command: /home/biocbuild/bbs-3.23-bioc/R/bin/R CMD INSTALL DelayedRandomArray StartedAt: 2025-11-06 15:15:59 -0500 (Thu, 06 Nov 2025) EndedAt: 2025-11-06 15:16:29 -0500 (Thu, 06 Nov 2025) EllapsedTime: 30.2 seconds RetCode: 0 Status: OK