Package: DelayedRandomArray Version: 1.19.0 Command: /home/biocbuild/bbs-3.23-bioc/R/bin/R CMD build --keep-empty-dirs --no-resave-data DelayedRandomArray StartedAt: 2025-11-06 17:09:58 -0500 (Thu, 06 Nov 2025) EndedAt: 2025-11-06 17:10:40 -0500 (Thu, 06 Nov 2025) EllapsedTime: 41.1 seconds RetCode: 0 Status: OK PackageFile: DelayedRandomArray_1.19.0.tar.gz PackageFileSize: 318.7 KiB