Package: DelayedMatrixStats Version: 1.31.0 Command: /home/biocbuild/R/R/bin/R CMD INSTALL DelayedMatrixStats StartedAt: 2025-10-06 20:29:07 -0000 (Mon, 06 Oct 2025) EndedAt: 2025-10-06 20:29:36 -0000 (Mon, 06 Oct 2025) EllapsedTime: 28.4 seconds RetCode: 0 Status: OK