Package: DelayedMatrixStats Version: 1.31.0 Command: /home/biocbuild/R/R/bin/R CMD build --keep-empty-dirs --no-resave-data DelayedMatrixStats StartedAt: 2025-10-06 23:12:17 -0000 (Mon, 06 Oct 2025) EndedAt: 2025-10-06 23:18:57 -0000 (Mon, 06 Oct 2025) EllapsedTime: 400.1 seconds RetCode: 0 Status: OK PackageFile: DelayedMatrixStats_1.31.0.tar.gz PackageFileSize: 289 KiB