Package: DelayedMatrixStats Version: 1.33.0 Command: /home/biocbuild/bbs-3.23-bioc/R/bin/R CMD INSTALL DelayedMatrixStats StartedAt: 2025-11-07 15:17:06 -0500 (Fri, 07 Nov 2025) EndedAt: 2025-11-07 15:17:26 -0500 (Fri, 07 Nov 2025) EllapsedTime: 20.2 seconds RetCode: 0 Status: OK