Package: DelayedDataFrame Version: 1.25.0 Command: /home/biocbuild/R/R/bin/R CMD INSTALL DelayedDataFrame StartedAt: 2025-10-06 20:29:28 -0000 (Mon, 06 Oct 2025) EndedAt: 2025-10-06 20:29:51 -0000 (Mon, 06 Oct 2025) EllapsedTime: 23.7 seconds RetCode: 0 Status: OK