Package: DelayedDataFrame Version: 1.25.0 Command: /home/biocbuild/R/R/bin/R CMD build --keep-empty-dirs --no-resave-data DelayedDataFrame StartedAt: 2025-10-06 23:12:15 -0000 (Mon, 06 Oct 2025) EndedAt: 2025-10-06 23:12:54 -0000 (Mon, 06 Oct 2025) EllapsedTime: 39.0 seconds RetCode: 0 Status: OK PackageFile: DelayedDataFrame_1.25.0.tar.gz PackageFileSize: 551.4 KiB