Package: DelayedArray Version: 0.35.3 Command: /home/biocbuild/R/R/bin/R CMD INSTALL DelayedArray StartedAt: 2025-10-02 20:36:09 -0000 (Thu, 02 Oct 2025) EndedAt: 2025-10-02 20:36:50 -0000 (Thu, 02 Oct 2025) EllapsedTime: 41.2 seconds RetCode: 0 Status: OK