Package: DelayedArray Version: 0.35.3 Command: /home/biocbuild/R/R/bin/R CMD build --keep-empty-dirs --no-resave-data DelayedArray StartedAt: 2025-10-02 23:27:59 -0000 (Thu, 02 Oct 2025) EndedAt: 2025-10-02 23:29:13 -0000 (Thu, 02 Oct 2025) EllapsedTime: 74.0 seconds RetCode: 0 Status: OK PackageFile: DelayedArray_0.35.3.tar.gz PackageFileSize: 808.8 KiB