Package: DelayedArray Version: 0.37.0 Command: /home/biocbuild/bbs-3.23-bioc/R/bin/R CMD INSTALL DelayedArray StartedAt: 2025-11-07 15:14:48 -0500 (Fri, 07 Nov 2025) EndedAt: 2025-11-07 15:15:17 -0500 (Fri, 07 Nov 2025) EllapsedTime: 29.3 seconds RetCode: 0 Status: OK