Package: DelayedArray Version: 0.37.0 Command: /home/biocbuild/bbs-3.23-bioc/R/bin/R CMD build --keep-empty-dirs --no-resave-data DelayedArray StartedAt: 2025-11-07 17:10:31 -0500 (Fri, 07 Nov 2025) EndedAt: 2025-11-07 17:11:28 -0500 (Fri, 07 Nov 2025) EllapsedTime: 57.1 seconds RetCode: 0 Status: OK PackageFile: DelayedArray_0.37.0.tar.gz PackageFileSize: 793.6 KiB