Package: DeepPINCS Version: 1.19.0 Command: /home/biocbuild/bbs-3.23-bioc/R/bin/R CMD INSTALL DeepPINCS StartedAt: 2025-11-13 15:11:31 -0500 (Thu, 13 Nov 2025) EndedAt: 2025-11-13 15:11:46 -0500 (Thu, 13 Nov 2025) EllapsedTime: 14.4 seconds RetCode: 0 Status: OK