Package: DeepPINCS Version: 1.19.0 Command: /home/biocbuild/bbs-3.23-bioc/R/bin/R CMD build --keep-empty-dirs --no-resave-data DeepPINCS StartedAt: 2025-11-14 17:10:57 -0500 (Fri, 14 Nov 2025) EndedAt: 2025-11-14 17:11:25 -0500 (Fri, 14 Nov 2025) EllapsedTime: 27.0 seconds RetCode: 0 Status: OK PackageFile: DeepPINCS_1.19.0.tar.gz PackageFileSize: 2.438 MiB