Package: DaMiRseq Version: 2.21.0 Command: /home/biocbuild/bbs-3.22-bioc/R/bin/R CMD INSTALL DaMiRseq StartedAt: 2025-10-08 16:10:12 -0400 (Wed, 08 Oct 2025) EndedAt: 2025-10-08 16:11:28 -0400 (Wed, 08 Oct 2025) EllapsedTime: 75.6 seconds RetCode: 0 Status: OK