Package: DaMiRseq Version: 2.21.0 Command: /home/biocbuild/bbs-3.22-bioc/R/bin/R CMD build --keep-empty-dirs --no-resave-data --md5 DaMiRseq StartedAt: 2025-10-08 17:33:06 -0400 (Wed, 08 Oct 2025) EndedAt: 2025-10-08 17:40:53 -0400 (Wed, 08 Oct 2025) EllapsedTime: 467.4 seconds RetCode: 0 Status: OK PackageFile: DaMiRseq_2.21.0.tar.gz PackageFileSize: 4.221 MiB