Package: DRIMSeq Version: 1.39.0 Command: /home/biocbuild/bbs-3.23-bioc/R/bin/R CMD INSTALL DRIMSeq StartedAt: 2025-11-07 15:34:55 -0500 (Fri, 07 Nov 2025) EndedAt: 2025-11-07 15:35:07 -0500 (Fri, 07 Nov 2025) EllapsedTime: 12.2 seconds RetCode: 0 Status: OK