Package: DRIMSeq Version: 1.39.0 Command: /home/biocbuild/bbs-3.23-bioc/R/bin/R CMD build --keep-empty-dirs --no-resave-data DRIMSeq StartedAt: 2025-11-07 17:20:44 -0500 (Fri, 07 Nov 2025) EndedAt: 2025-11-07 17:23:03 -0500 (Fri, 07 Nov 2025) EllapsedTime: 139.1 seconds RetCode: 0 Status: OK PackageFile: DRIMSeq_1.39.0.tar.gz PackageFileSize: 481.8 KiB