Package: DRIMSeq Version: 1.37.0 Command: /Library/Frameworks/R.framework/Resources/bin/R CMD INSTALL DRIMSeq StartedAt: 2025-10-03 15:31:17 -0400 (Fri, 03 Oct 2025) EndedAt: 2025-10-03 15:31:37 -0400 (Fri, 03 Oct 2025) EllapsedTime: 19.5 seconds RetCode: 0 Status: OK