Package: DRIMSeq Version: 1.37.0 Command: rm -rf DRIMSeq.buildbin-libdir && mkdir DRIMSeq.buildbin-libdir && /Users/biocbuild/BBS/utils/build-universal.sh DRIMSeq_1.37.0.tar.gz /Library/Frameworks/R.framework/Resources/bin/R DRIMSeq.buildbin-libdir StartedAt: 2025-10-04 02:03:17 -0400 (Sat, 04 Oct 2025) EndedAt: 2025-10-04 02:03:39 -0400 (Sat, 04 Oct 2025) EllapsedTime: 22.1 seconds RetCode: 0 Status: OK PackageFile: DRIMSeq_1.37.0.tgz PackageFileSize: 783.7 KiB