Package: DRIMSeq Version: 1.37.0 Command: /Library/Frameworks/R.framework/Resources/bin/R CMD INSTALL DRIMSeq StartedAt: 2025-10-01 15:19:26 -0400 (Wed, 01 Oct 2025) EndedAt: 2025-10-01 15:19:32 -0400 (Wed, 01 Oct 2025) EllapsedTime: 5.3 seconds RetCode: 0 Status: OK