Package: DRIMSeq Version: 1.37.0 Command: /Library/Frameworks/R.framework/Resources/bin/R CMD build --keep-empty-dirs --no-resave-data DRIMSeq StartedAt: 2025-10-01 16:16:20 -0400 (Wed, 01 Oct 2025) EndedAt: 2025-10-01 16:17:12 -0400 (Wed, 01 Oct 2025) EllapsedTime: 52.6 seconds RetCode: 0 Status: OK PackageFile: DRIMSeq_1.37.0.tar.gz PackageFileSize: 481.4 KiB