Package: DRIMSeq Version: 1.37.0 Command: rm -rf DRIMSeq.buildbin-libdir && mkdir DRIMSeq.buildbin-libdir && /Users/biocbuild/BBS/utils/build-universal.sh DRIMSeq_1.37.0.tar.gz /Library/Frameworks/R.framework/Resources/bin/R DRIMSeq.buildbin-libdir StartedAt: 2025-10-01 22:45:31 -0400 (Wed, 01 Oct 2025) EndedAt: 2025-10-01 22:45:37 -0400 (Wed, 01 Oct 2025) EllapsedTime: 6.1 seconds RetCode: 0 Status: OK PackageFile: DRIMSeq_1.37.0.tgz PackageFileSize: 786.2 KiB