Package: DNABarcodes Version: 1.39.0 Command: /home/biocbuild/bbs-3.22-bioc/R/bin/R CMD INSTALL DNABarcodes StartedAt: 2025-09-29 15:04:15 -0400 (Mon, 29 Sep 2025) EndedAt: 2025-09-29 15:05:29 -0400 (Mon, 29 Sep 2025) EllapsedTime: 73.7 seconds RetCode: 0 Status: OK