Package: DNABarcodeCompatibility Version: 1.25.0 Command: /home/biocbuild/bbs-3.22-bioc/R/bin/R CMD build --keep-empty-dirs --no-resave-data --md5 DNABarcodeCompatibility StartedAt: 2025-10-03 17:21:07 -0400 (Fri, 03 Oct 2025) EndedAt: 2025-10-03 17:22:14 -0400 (Fri, 03 Oct 2025) EllapsedTime: 67.0 seconds RetCode: 0 Status: OK PackageFile: DNABarcodeCompatibility_1.25.0.tar.gz PackageFileSize: 262.1 KiB