Package: DMCHMM Version: 1.31.0 Command: /home/biocbuild/bbs-3.22-bioc/R/bin/R CMD INSTALL DMCHMM StartedAt: 2025-10-09 15:29:29 -0400 (Thu, 09 Oct 2025) EndedAt: 2025-10-09 15:30:04 -0400 (Thu, 09 Oct 2025) EllapsedTime: 35.3 seconds RetCode: 0 Status: OK