Package: DFplyr Version: 1.3.2 Command: /home/biocbuild/bbs-3.22-bioc/R/bin/R CMD INSTALL DFplyr StartedAt: 2025-09-30 15:12:30 -0400 (Tue, 30 Sep 2025) EndedAt: 2025-09-30 15:12:37 -0400 (Tue, 30 Sep 2025) EllapsedTime: 7.1 seconds RetCode: 0 Status: OK