Package: DFplyr Version: 1.3.2 Command: /home/biocbuild/bbs-3.22-bioc/R/bin/R CMD build --keep-empty-dirs --no-resave-data --md5 DFplyr StartedAt: 2025-09-29 17:37:05 -0400 (Mon, 29 Sep 2025) EndedAt: 2025-09-29 17:37:22 -0400 (Mon, 29 Sep 2025) EllapsedTime: 17.0 seconds RetCode: 0 Status: OK PackageFile: DFplyr_1.3.2.tar.gz PackageFileSize: 396.9 KiB