Package: DEXSeq Version: 1.55.1 Command: /home/biocbuild/bbs-3.22-bioc/R/bin/R CMD INSTALL DEXSeq StartedAt: 2025-10-08 15:39:39 -0400 (Wed, 08 Oct 2025) EndedAt: 2025-10-08 15:40:21 -0400 (Wed, 08 Oct 2025) EllapsedTime: 42.6 seconds RetCode: 0 Status: OK