Package: DEXSeq Version: 1.55.1 Command: /home/biocbuild/bbs-3.22-bioc/R/bin/R CMD build --keep-empty-dirs --no-resave-data --md5 DEXSeq StartedAt: 2025-10-09 17:23:50 -0400 (Thu, 09 Oct 2025) EndedAt: 2025-10-09 17:25:46 -0400 (Thu, 09 Oct 2025) EllapsedTime: 116.1 seconds RetCode: 0 Status: OK PackageFile: DEXSeq_1.55.1.tar.gz PackageFileSize: 1.644 MiB