Package: DEWSeq Version: 1.23.1 Command: /home/biocbuild/bbs-3.22-bioc/R/bin/R CMD INSTALL DEWSeq StartedAt: 2025-10-21 15:24:26 -0400 (Tue, 21 Oct 2025) EndedAt: 2025-10-21 15:24:51 -0400 (Tue, 21 Oct 2025) EllapsedTime: 25.0 seconds RetCode: 0 Status: OK