Package: DEWSeq Version: 1.23.1 Command: /home/biocbuild/bbs-3.22-bioc/R/bin/R CMD build --keep-empty-dirs --no-resave-data --md5 DEWSeq StartedAt: 2025-10-21 17:20:18 -0400 (Tue, 21 Oct 2025) EndedAt: 2025-10-21 17:22:07 -0400 (Tue, 21 Oct 2025) EllapsedTime: 109.1 seconds RetCode: 0 Status: OK PackageFile: DEWSeq_1.23.1.tar.gz PackageFileSize: 3.348 MiB