Package: CytoPipeline Version: 1.9.0 Command: /home/biocbuild/bbs-3.22-bioc/R/bin/R CMD build --keep-empty-dirs --no-resave-data --md5 CytoPipeline StartedAt: 2025-09-21 17:05:53 -0400 (Sun, 21 Sep 2025) EndedAt: 2025-09-21 17:06:40 -0400 (Sun, 21 Sep 2025) EllapsedTime: 47.0 seconds RetCode: 0 Status: OK PackageFile: CytoPipeline_1.9.0.tar.gz PackageFileSize: 3.191 MiB