Package: CytoPipeline Version: 1.11.0 Command: /Library/Frameworks/R.framework/Resources/bin/R CMD INSTALL CytoPipeline StartedAt: 2025-11-23 15:42:38 -0500 (Sun, 23 Nov 2025) EndedAt: 2025-11-23 15:43:00 -0500 (Sun, 23 Nov 2025) EllapsedTime: 22.3 seconds RetCode: 0 Status: OK