Package: CytoPipeline Version: 1.11.0 Command: /Library/Frameworks/R.framework/Resources/bin/R CMD build --keep-empty-dirs --no-resave-data CytoPipeline StartedAt: 2025-11-24 16:40:57 -0500 (Mon, 24 Nov 2025) EndedAt: 2025-11-24 16:41:54 -0500 (Mon, 24 Nov 2025) EllapsedTime: 57.2 seconds RetCode: 0 Status: OK PackageFile: CytoPipeline_1.11.0.tar.gz PackageFileSize: 3.345 MiB