Package: CytoPipeline Version: 1.11.0 Command: rm -rf CytoPipeline.buildbin-libdir && mkdir CytoPipeline.buildbin-libdir && /Users/biocbuild/BBS/utils/build-universal.sh CytoPipeline_1.11.0.tar.gz /Library/Frameworks/R.framework/Resources/bin/R CytoPipeline.buildbin-libdir StartedAt: 2025-11-16 23:30:28 -0500 (Sun, 16 Nov 2025) EndedAt: 2025-11-16 23:30:38 -0500 (Sun, 16 Nov 2025) EllapsedTime: 9.5 seconds RetCode: 0 Status: OK PackageFile: CytoPipeline_1.11.0.tgz PackageFileSize: 3.531 MiB