Package: CytoML Version: 2.23.0 Command: /Library/Frameworks/R.framework/Resources/bin/R CMD INSTALL CytoML StartedAt: 2025-11-25 15:49:09 -0500 (Tue, 25 Nov 2025) EndedAt: 2025-11-25 15:50:24 -0500 (Tue, 25 Nov 2025) EllapsedTime: 75.7 seconds RetCode: 0 Status: OK