Package: CytoML Version: 2.23.0 Command: /Library/Frameworks/R.framework/Resources/bin/R CMD build --keep-empty-dirs --no-resave-data CytoML StartedAt: 2025-11-25 16:53:38 -0500 (Tue, 25 Nov 2025) EndedAt: 2025-11-25 16:55:35 -0500 (Tue, 25 Nov 2025) EllapsedTime: 116.5 seconds RetCode: 0 Status: OK PackageFile: CytoML_2.23.0.tar.gz PackageFileSize: 8.559 MiB