Package: CytoML Version: 2.23.0 Command: /Library/Frameworks/R.framework/Resources/bin/R CMD INSTALL CytoML StartedAt: 2025-11-20 15:11:40 -0500 (Thu, 20 Nov 2025) EndedAt: 2025-11-20 15:12:00 -0500 (Thu, 20 Nov 2025) EllapsedTime: 20.2 seconds RetCode: 0 Status: OK