Package: CyTOFpower Version: 1.15.0 Command: /home/biocbuild/bbs-3.22-bioc/R/bin/R CMD INSTALL CyTOFpower StartedAt: 2025-10-03 15:29:32 -0400 (Fri, 03 Oct 2025) EndedAt: 2025-10-03 15:29:37 -0400 (Fri, 03 Oct 2025) EllapsedTime: 5.1 seconds RetCode: 0 Status: OK