Package: CoverageView Version: 1.49.0 Command: /home/biocbuild/bbs-3.23-bioc/R/bin/R CMD INSTALL CoverageView StartedAt: 2025-11-09 15:28:30 -0500 (Sun, 09 Nov 2025) EndedAt: 2025-11-09 15:29:01 -0500 (Sun, 09 Nov 2025) EllapsedTime: 30.5 seconds RetCode: 0 Status: OK