Package: CoverageView Version: 1.47.0 Command: /Library/Frameworks/R.framework/Resources/bin/R CMD INSTALL CoverageView StartedAt: 2025-10-22 15:29:47 -0400 (Wed, 22 Oct 2025) EndedAt: 2025-10-22 15:30:28 -0400 (Wed, 22 Oct 2025) EllapsedTime: 41.7 seconds RetCode: 0 Status: OK