Package: CoverageView Version: 1.47.0 Command: /Library/Frameworks/R.framework/Resources/bin/R CMD build --keep-empty-dirs --no-resave-data CoverageView StartedAt: 2025-10-22 16:33:00 -0400 (Wed, 22 Oct 2025) EndedAt: 2025-10-22 16:34:00 -0400 (Wed, 22 Oct 2025) EllapsedTime: 60.6 seconds RetCode: 0 Status: OK PackageFile: CoverageView_1.47.0.tar.gz PackageFileSize: 2.553 MiB