Package: CoverageView Version: 1.47.0 Command: rm -rf CoverageView.buildbin-libdir && mkdir CoverageView.buildbin-libdir && /Users/biocbuild/BBS/utils/build-universal.sh CoverageView_1.47.0.tar.gz /Library/Frameworks/R.framework/Resources/bin/R CoverageView.buildbin-libdir StartedAt: 2025-10-24 01:29:05 -0400 (Fri, 24 Oct 2025) EndedAt: 2025-10-24 01:29:50 -0400 (Fri, 24 Oct 2025) EllapsedTime: 44.7 seconds RetCode: 0 Status: OK PackageFile: CoverageView_1.47.0.tgz PackageFileSize: 2.959 MiB