Package: CoverageView Version: 1.47.0 Command: /Library/Frameworks/R.framework/Resources/bin/R CMD INSTALL CoverageView StartedAt: 2025-10-06 15:16:45 -0400 (Mon, 06 Oct 2025) EndedAt: 2025-10-06 15:16:58 -0400 (Mon, 06 Oct 2025) EllapsedTime: 13.2 seconds RetCode: 0 Status: OK